BEGIN:VCALENDAR
VERSION:2.0
PRODID:-//Sabre//Sabre VObject 4.5.7//EN
CALSCALE:GREGORIAN
BEGIN:VEVENT
UID:sabre-vobject-3f48f550-e435-4629-93e3-71d9454f2231
DTSTAMP:20260421T140746Z
SUMMARY:Nachtwächterführung für Kinder
DESCRIPTION:https://stadtfuehrer-neuburg.de/fuehrungen/oeffentliche-fuehrun
 gen/nachtwaechterfuehrung-fuer-kinder_id4322
DTSTART;TZID=Europe/Berlin:20260406T183000
END:VEVENT
END:VCALENDAR
