BEGIN:VCALENDAR
VERSION:2.0
PRODID:-//Sabre//Sabre VObject 4.5.7//EN
CALSCALE:GREGORIAN
BEGIN:VEVENT
UID:sabre-vobject-6970b28c-197a-4658-8f4b-9905baf32635
DTSTAMP:20260422T191034Z
SUMMARY:Neuburg vor 100 Jahren! 
DESCRIPTION:https://stadtfuehrer-neuburg.de/fuehrungen/oeffentliche-fuehrun
 gen/neuburg-vor-100-jahren_id5648
DTSTART;TZID=Europe/Berlin:20260522T190000
END:VEVENT
END:VCALENDAR
