BEGIN:VCALENDAR
VERSION:2.0
PRODID:-//Sabre//Sabre VObject 4.5.7//EN
CALSCALE:GREGORIAN
BEGIN:VEVENT
UID:sabre-vobject-a46a5a38-05b6-4a99-ae46-0bf881fb5a9c
DTSTAMP:20260422T185632Z
SUMMARY:Nachtwächterführung
DESCRIPTION:https://stadtfuehrer-neuburg.de/fuehrungen/oeffentliche-fuehrun
 gen/nachtwaechterfuehrung_id5746
DTSTART;TZID=Europe/Berlin:20260501T203000
LOCATION:Ottheinrichplatz A118\, 86633 Neuburg/Donau
END:VEVENT
END:VCALENDAR
