BEGIN:VCALENDAR
VERSION:2.0
PRODID:-//Sabre//Sabre VObject 4.5.7//EN
CALSCALE:GREGORIAN
BEGIN:VEVENT
UID:sabre-vobject-321ebff2-d639-4947-b57c-f0081d86ad94
DTSTAMP:20260424T172712Z
SUMMARY:Neuburg vor 100 Jahren!
DESCRIPTION:https://stadtfuehrer-neuburg.de/fuehrungen/oeffentliche-fuehrun
 gen/neuburg-vor-100-jahren_id5754
DTSTART;TZID=Europe/Berlin:20240823T190000
END:VEVENT
END:VCALENDAR
