BEGIN:VCALENDAR
VERSION:2.0
PRODID:-//Sabre//Sabre VObject 4.5.7//EN
CALSCALE:GREGORIAN
BEGIN:VEVENT
UID:sabre-vobject-cc2b9aa1-eff9-4a53-945c-b53318b9b0c5
DTSTAMP:20260421T123907Z
SUMMARY:Nachtwächterführung
DESCRIPTION:https://stadtfuehrer-neuburg.de/fuehrungen/oeffentliche-fuehrun
 gen/nachtwaechterfuehrung_id5756
DTSTART;TZID=Europe/Berlin:20260417T203000
END:VEVENT
END:VCALENDAR
