BEGIN:VCALENDAR
VERSION:2.0
PRODID:-//Sabre//Sabre VObject 4.5.7//EN
CALSCALE:GREGORIAN
BEGIN:VEVENT
UID:sabre-vobject-fcb31371-1d27-426f-b95c-b8cb352dbae8
DTSTAMP:20260413T102310Z
SUMMARY:Stadtführung
DESCRIPTION:https://stadtfuehrer-neuburg.de/fuehrungen/oeffentliche-fuehrun
 gen/stadtfuehrung_id5778
DTSTART;TZID=Europe/Berlin:20241019T160000
END:VEVENT
END:VCALENDAR
