BEGIN:VCALENDAR
VERSION:2.0
PRODID:-//Sabre//Sabre VObject 4.5.7//EN
CALSCALE:GREGORIAN
BEGIN:VEVENT
UID:sabre-vobject-f754827e-03fe-425d-ab69-e6c675404b6b
DTSTAMP:20260421T052750Z
SUMMARY:"Der Kurfürst lässt die Bilder tanzen" - 20 Jahre Flämische Baro
 ckgalerie
DESCRIPTION:https://stadtfuehrer-neuburg.de/fuehrungen/oeffentliche-fuehrun
 gen/der-kurfuerst-laesst-die-bilder-tanzen-20-jahre-flaemische-barockgaler
 ie_id5810
DTSTART;TZID=Europe/Berlin:20250112T140000
END:VEVENT
END:VCALENDAR
