BEGIN:VCALENDAR
VERSION:2.0
PRODID:-//Sabre//Sabre VObject 4.5.7//EN
CALSCALE:GREGORIAN
BEGIN:VEVENT
UID:sabre-vobject-63c30115-e17e-4509-9b1f-354fcc98970b
DTSTAMP:20260421T034804Z
SUMMARY:"Es muss nicht immer Kaviar sein." Speisen und Sitten bei Hofe
DESCRIPTION:https://stadtfuehrer-neuburg.de/fuehrungen/oeffentliche-fuehrun
 gen/es-muss-nicht-immer-kaviar-sein-speisen-und-sitten-bei-hofe_id5811
DTSTART;TZID=Europe/Berlin:20250119T140000
END:VEVENT
END:VCALENDAR
