BEGIN:VCALENDAR
VERSION:2.0
PRODID:-//Sabre//Sabre VObject 4.5.7//EN
CALSCALE:GREGORIAN
BEGIN:VEVENT
UID:sabre-vobject-b45e813e-7cc0-499d-80d8-81c1083a2b85
DTSTAMP:20260422T191113Z
SUMMARY:Wolfgang von Zweibrücken - der Retter unseres Fürstentums
DESCRIPTION:https://stadtfuehrer-neuburg.de/fuehrungen/oeffentliche-fuehrun
 gen/wolfgang-von-zweibruecken-der-retter-unseres-fuerstentums_id5812
DTSTART;TZID=Europe/Berlin:20250126T140000
END:VEVENT
END:VCALENDAR
