BEGIN:VCALENDAR
VERSION:2.0
PRODID:-//Sabre//Sabre VObject 4.5.7//EN
CALSCALE:GREGORIAN
BEGIN:VEVENT
UID:sabre-vobject-d9cbf785-8d82-448b-ac48-03fc59b72765
DTSTAMP:20260421T164342Z
SUMMARY:Himmel\, Hölle und alle Heiligen
DESCRIPTION:https://stadtfuehrer-neuburg.de/fuehrungen/oeffentliche-fuehrun
 gen/himmel-hoelle-und-alle-heiligen_id5813
DTSTART;TZID=Europe/Berlin:20250202T140000
END:VEVENT
END:VCALENDAR
