BEGIN:VCALENDAR
VERSION:2.0
PRODID:-//Sabre//Sabre VObject 4.5.7//EN
CALSCALE:GREGORIAN
BEGIN:VEVENT
UID:sabre-vobject-990aa383-bc15-4dea-9a53-00e907e7caf2
DTSTAMP:20260422T191205Z
SUMMARY:Stillleben - Ausdruck von Lebensfreude und Vergänglichkeit
DESCRIPTION:https://stadtfuehrer-neuburg.de/fuehrungen/oeffentliche-fuehrun
 gen/stillleben-ausdruck-von-lebensfreude-und-vergaenglichkeit_id5814
DTSTART;TZID=Europe/Berlin:20250209T140000
END:VEVENT
END:VCALENDAR
