BEGIN:VCALENDAR
VERSION:2.0
PRODID:-//Sabre//Sabre VObject 4.5.7//EN
CALSCALE:GREGORIAN
BEGIN:VEVENT
UID:sabre-vobject-306bfd87-1b27-4efc-8fa8-6f043f8f6070
DTSTAMP:20260422T191139Z
SUMMARY:Die Mutter von 17 Prinzen und Prinzessinnen: Kurfürstenwitwe Elisa
 beth Amalie Magdalena
DESCRIPTION:https://stadtfuehrer-neuburg.de/fuehrungen/oeffentliche-fuehrun
 gen/die-mutter-von-17-prinzen-und-prinzessinnen-kurfuerstenwitwe-elisabeth
 -amalie-magdalena_id5815
DTSTART;TZID=Europe/Berlin:20250216T140000
END:VEVENT
END:VCALENDAR
