BEGIN:VCALENDAR
VERSION:2.0
PRODID:-//Sabre//Sabre VObject 4.5.7//EN
CALSCALE:GREGORIAN
BEGIN:VEVENT
UID:sabre-vobject-4e1a8517-a99f-4c19-80a8-ae1a98d17022
DTSTAMP:20260420T154628Z
SUMMARY:Alte Bilder werden lebendig.
DESCRIPTION:https://stadtfuehrer-neuburg.de/fuehrungen/oeffentliche-fuehrun
 gen/alte-bilder-werden-lebendig_id5816
DTSTART;TZID=Europe/Berlin:20250223T140000
END:VEVENT
END:VCALENDAR
