BEGIN:VCALENDAR
VERSION:2.0
PRODID:-//Sabre//Sabre VObject 4.5.7//EN
CALSCALE:GREGORIAN
BEGIN:VEVENT
UID:sabre-vobject-84381091-f7cd-4508-b94a-b548b7ca7eae
DTSTAMP:20260420T184306Z
SUMMARY:Das große Staunen - Schätze aus Kunst- und Wunderkammern
DESCRIPTION:https://stadtfuehrer-neuburg.de/fuehrungen/oeffentliche-fuehrun
 gen/das-grosse-staunen-schaetze-aus-kunst-und-wunderkammern_id5817
DTSTART;TZID=Europe/Berlin:20250302T140000
END:VEVENT
END:VCALENDAR
