BEGIN:VCALENDAR
VERSION:2.0
PRODID:-//Sabre//Sabre VObject 4.5.7//EN
CALSCALE:GREGORIAN
BEGIN:VEVENT
UID:sabre-vobject-983cc00e-0238-4e8c-bc62-234f7bce9b1c
DTSTAMP:20260420T200735Z
SUMMARY:"Ho' Rüd Ho' " - Darstellungen zur Jagd in früheren Zeiten
DESCRIPTION:https://stadtfuehrer-neuburg.de/fuehrungen/oeffentliche-fuehrun
 gen/ho-rued-ho-darstellungen-zur-jagd-in-frueheren-zeiten_id5818
DTSTART;TZID=Europe/Berlin:20250309T140000
END:VEVENT
END:VCALENDAR
