BEGIN:VCALENDAR
VERSION:2.0
PRODID:-//Sabre//Sabre VObject 4.5.7//EN
CALSCALE:GREGORIAN
BEGIN:VEVENT
UID:sabre-vobject-fc7e98bf-de5a-47b3-861a-b4b70a051553
DTSTAMP:20260420T225745Z
SUMMARY:Das Geschenk des Königs: Die Liebe Max I. Josephs zu Neuburg
DESCRIPTION:https://stadtfuehrer-neuburg.de/fuehrungen/oeffentliche-fuehrun
 gen/das-geschenk-des-koenigs-die-liebe-max-i-josephs-zu-neuburg_id5820
DTSTART;TZID=Europe/Berlin:20250330T140000
END:VEVENT
END:VCALENDAR
