BEGIN:VCALENDAR
VERSION:2.0
PRODID:-//Sabre//Sabre VObject 4.5.7//EN
CALSCALE:GREGORIAN
BEGIN:VEVENT
UID:sabre-vobject-79bc52a8-9776-4689-8461-c21cd00b02f7
DTSTAMP:20260421T005115Z
SUMMARY:"Wasser ist Leben" - Die Wasserversorgung zu Ottheinrichs Zeiten vo
 n Schloss und Stadt
DESCRIPTION:https://stadtfuehrer-neuburg.de/fuehrungen/oeffentliche-fuehrun
 gen/wasser-ist-leben-die-wasserversorgung-zu-ottheinrichs-zeiten-von-schlo
 ss-und-stadt_id5821
DTSTART;TZID=Europe/Berlin:20250406T140000
END:VEVENT
END:VCALENDAR
