BEGIN:VCALENDAR
VERSION:2.0
PRODID:-//Sabre//Sabre VObject 4.5.7//EN
CALSCALE:GREGORIAN
BEGIN:VEVENT
UID:sabre-vobject-d15a2c0f-d83a-4402-b3b7-d782b134ad97
DTSTAMP:20260421T022320Z
SUMMARY:Phönix\, Augustinus und Andere - sehen und staunen. Nadelmalereien
  der Ursulinen
DESCRIPTION:https://stadtfuehrer-neuburg.de/fuehrungen/oeffentliche-fuehrun
 gen/phoenix-augustinus-und-andere-sehen-und-staunen-nadelmalereien-der-urs
 ulinen_id5822
DTSTART;TZID=Europe/Berlin:20250413T140000
END:VEVENT
END:VCALENDAR
