BEGIN:VCALENDAR
VERSION:2.0
PRODID:-//Sabre//Sabre VObject 4.5.7//EN
CALSCALE:GREGORIAN
BEGIN:VEVENT
UID:sabre-vobject-faa69d1a-eb43-4c91-84c2-f92597c8dd9c
DTSTAMP:20260421T212935Z
SUMMARY:Wo sind die Tiere? Zauberalarm in der Flämischen Galerie
DESCRIPTION:https://stadtfuehrer-neuburg.de/fuehrungen/oeffentliche-fuehrun
 gen/wo-sind-die-tiere-zauberalarm-in-der-flaemischen-galerie_id5823
DTSTART;TZID=Europe/Berlin:20250323T140000
END:VEVENT
END:VCALENDAR
