BEGIN:VCALENDAR
VERSION:2.0
PRODID:-//Sabre//Sabre VObject 4.5.7//EN
CALSCALE:GREGORIAN
BEGIN:VEVENT
UID:sabre-vobject-f466a81f-adad-4f19-ac80-51caa9f45bdc
DTSTAMP:20260422T185514Z
SUMMARY:Nachtwächterführung
DESCRIPTION:https://stadtfuehrer-neuburg.de/fuehrungen/oeffentliche-fuehrun
 gen/nachtwaechterfuehrung_id6278
DTSTART;TZID=Europe/Berlin:20260515T203000
LOCATION:Ottheinrichplatz A118\, 86633 Neuburg/Donau
END:VEVENT
END:VCALENDAR
