BEGIN:VCALENDAR
VERSION:2.0
PRODID:-//Sabre//Sabre VObject 4.5.7//EN
CALSCALE:GREGORIAN
BEGIN:VEVENT
UID:sabre-vobject-5c08dfc1-15b5-4e6a-8968-8d312fb20569
DTSTAMP:20260422T071016Z
SUMMARY:Nachtwächterführung für Kinder
DESCRIPTION:https://stadtfuehrer-neuburg.de/fuehrungen/oeffentliche-fuehrun
 gen/nachtwaechterfuehrung-fuer-kinder_id6279
DTSTART;TZID=Europe/Berlin:20260604T183000
END:VEVENT
END:VCALENDAR
